BEGIN:VCALENDAR
VERSION:2.0
PRODID:-//Borderline Trialog Kassel e.V. - ECPv6.15.12.2//NONSGML v1.0//EN
CALSCALE:GREGORIAN
METHOD:PUBLISH
X-ORIGINAL-URL:https://borderline-kassel.de
X-WR-CALDESC:Veranstaltungen für Borderline Trialog Kassel e.V.
REFRESH-INTERVAL;VALUE=DURATION:PT1H
X-Robots-Tag:noindex
X-PUBLISHED-TTL:PT1H
BEGIN:VTIMEZONE
TZID:Europe/Berlin
BEGIN:DAYLIGHT
TZOFFSETFROM:+0100
TZOFFSETTO:+0200
TZNAME:CEST
DTSTART:20250330T010000
END:DAYLIGHT
BEGIN:STANDARD
TZOFFSETFROM:+0200
TZOFFSETTO:+0100
TZNAME:CET
DTSTART:20251026T010000
END:STANDARD
BEGIN:DAYLIGHT
TZOFFSETFROM:+0100
TZOFFSETTO:+0200
TZNAME:CEST
DTSTART:20260329T010000
END:DAYLIGHT
BEGIN:STANDARD
TZOFFSETFROM:+0200
TZOFFSETTO:+0100
TZNAME:CET
DTSTART:20261025T010000
END:STANDARD
BEGIN:DAYLIGHT
TZOFFSETFROM:+0100
TZOFFSETTO:+0200
TZNAME:CEST
DTSTART:20270328T010000
END:DAYLIGHT
BEGIN:STANDARD
TZOFFSETFROM:+0200
TZOFFSETTO:+0100
TZNAME:CET
DTSTART:20271031T010000
END:STANDARD
END:VTIMEZONE
BEGIN:VEVENT
DTSTART;TZID=Europe/Berlin:20260509T000000
DTEND;TZID=Europe/Berlin:20260509T000000
DTSTAMP:20260421T101113
CREATED:20260420T182303Z
LAST-MODIFIED:20260420T182303Z
UID:5518-1778284800-1778284800@borderline-kassel.de
SUMMARY:Fällt diesmal aus!!  --  die Angehörigen-Gruppe
DESCRIPTION:Liebe alle  —  unsere Angehörigengruppe muss an diesem Samstag leider ausfallen!
URL:https://borderline-kassel.de/event/faellt-diesmal-aus-die-angehoerigen-gruppe/
ATTACH;FMTTYPE=image/jpeg:https://borderline-kassel.de/wp-content/uploads/2024/02/Faellt-aus_1.jpg
END:VEVENT
BEGIN:VEVENT
DTSTART;TZID=Europe/Berlin:20260607T110000
DTEND;TZID=Europe/Berlin:20260607T160000
DTSTAMP:20260421T101113
CREATED:20260116T223349Z
LAST-MODIFIED:20260418T213630Z
UID:5283-1780830000-1780848000@borderline-kassel.de
SUMMARY:Juni-Wanderung 2026
DESCRIPTION:Herzlich willkommen zu unserer vierten Wanderung für dieses Jahr! \nSie führt uns wohin?\nDiesmal Kassel-nah:\nam Marbachsgraben entlang in die Dönche\n— das Naturschutzgebiet „Dönche“ zählt zu den flächenmäßig größten innerstädtischen Grünanlagen Deutschlands.\n.\nTreffpunkt: 11 Uhr —   \nAWO Altenzentrum Marbachshöhe\nMaria-Calm-Str. 4\n34131 Kassel\nLänge ca. 8 km \nLiebe Grüße\nUwe
URL:https://borderline-kassel.de/event/juni-wanderung-2026/
LOCATION:AWO Altenzentrum Marbachshöhe\, Maria-Calm-Str. 4\, Kassel\, 34131
ATTACH;FMTTYPE=image/jpeg:https://borderline-kassel.de/wp-content/uploads/2021/05/away-4898500_1920.jpg
END:VEVENT
BEGIN:VEVENT
DTSTART;TZID=Europe/Berlin:20260620T103000
DTEND;TZID=Europe/Berlin:20260620T130000
DTSTAMP:20260421T101113
CREATED:20260116T231308Z
LAST-MODIFIED:20260420T183023Z
UID:5333-1781951400-1781960400@borderline-kassel.de
SUMMARY:Trialog im Juni ... „...“  [Om B. Jung]
DESCRIPTION:Thema: „“  —  wird hier noch ergänzt … \nVon und mit Om B. Jung\,\nSystemische Praxis\, Borderline Trialog Kassel e.V. —  \n\n\n\nMitbringen   Neugier\, Schreibzeug und gern ein kleines persönliches Symbol (freiwillig). \nWillkommen auf unserer gemeinsamen Reise \nOm B. \n  \n„Lebe dein Ändern“ – Lesung und Dialog \n  \nSamstag\, 20. Juni\, 10:30 – 13:00 Uhr \nKISS\, Treppenstraße 4\, 34117 Kassel\,\nJoseph-Rinald-Raum (2. OG) \nNur mit Anmeldung über antje.martin@borderline-kassel.de. \nBei erstmaligem Besuch ist ein telefonisches Vorabgespräch notwendig – bitte dazu Kontaktaufnahme über info@borderline.kassel.de zwecks Terminvereinbarung.\nhttps://borderline-kassel.de/gruppenangebote/#borderline-trialog-kassel. \nWir freuen uns auf euch\,\neuer Trialog Team Kassel \n 
URL:https://borderline-kassel.de/event/trialog-im-juni-3/
LOCATION:KISS – Kontakt- und Informationsstelle für Selbsthilfegruppen\, Treppenstraße 4\, 2. OG\, Kassel\, 34117\, Deutschland
CATEGORIES:trialog
ATTACH;FMTTYPE=image/jpeg:https://borderline-kassel.de/wp-content/uploads/2023/08/Kippbild-Saxophon__-scaled.jpg
END:VEVENT
BEGIN:VEVENT
DTSTART;TZID=Europe/Berlin:20260628T110000
DTEND;TZID=Europe/Berlin:20260628T160000
DTSTAMP:20260421T101113
CREATED:20260116T223244Z
LAST-MODIFIED:20260418T213404Z
UID:5272-1782644400-1782662400@borderline-kassel.de
SUMMARY:Ende-Juni-Wanderung 2026
DESCRIPTION:Foto: Heinz K. S. – CC BY-SA 4.0\, wikimedia.org \nHerzlich willkommen zu unserer fünften Wanderung für dieses Jahr — als Ersatz zur ausgefallenen Mai-Wanderung! \nSie führt uns wohin?\nZur Mohnblüte nach Germerode\n . \nTreffpunkt: 11 Uhr —\n„Mohndorf“ Germerode\n>> externer Link <<\nOrtsteil der Gemeinde Meißner\,\nim Geo-Naturpark Frau-Holle-Land \n37290 Meißner-Germerode\nParkplatz ist vor Ort ausgeschildert.\nLiebe Grüße\nUwe
URL:https://borderline-kassel.de/event/ende-juni-wanderung-2026/
LOCATION:37290 Meißner-Germerode\, Neuer Weg 10\, Meißner-Germerode\, 37290
ATTACH;FMTTYPE=image/jpeg:https://borderline-kassel.de/wp-content/uploads/2026/01/Mohnanbau_im_Geo-Naturpark_Frau-Holle-Land_2-scaled.jpg
END:VEVENT
BEGIN:VEVENT
DTSTART;TZID=Europe/Berlin:20260905T110000
DTEND;TZID=Europe/Berlin:20260905T130000
DTSTAMP:20260421T101113
CREATED:20260116T225108Z
LAST-MODIFIED:20260116T225108Z
UID:5305-1788606000-1788613200@borderline-kassel.de
SUMMARY:"Wenn die Giraffe mit dem Wolf tanzt"  --  die Angehörigen-Gruppe
DESCRIPTION:Nur mit Anmeldung über info@borderline-kassel.de oder 05542 5058892.\nhttps://borderline-kassel.de/gruppenangebote/#selbsthilfegruppe-fuer-angehoerige. \nDiese Angehörigen-Gruppe wird in der Haltung der GfK (Gewaltfreie Kommunikation\, Dr. M.B. Rosenberg) mit Lebendigkeit gefüllt. \nWann: 1. Samstag im Monat\, 11:00 – 13 Uhr (nicht während der hessischen Schulferien).\nWo: Sarah-Nussbaum-Raum\, 2. OG — in der KISS\, Treppenstraße 4\, 34117 Kassel. \nKonzept und Begleitung: Om Bärbel Jung\, Vorsitzende des Borderline Trialog Kassel e.V. \nWir freuen uns auf euch\,\neuer Trialog Team Kassel
URL:https://borderline-kassel.de/event/wenn-die-giraffe-mit-dem-wolf-tanzt-die-angehoerigen-gruppe-13/
LOCATION:KISS – Kontakt- und Informationsstelle für Selbsthilfegruppen\, Treppenstraße 4\, 2. OG\, Kassel\, 34117\, Deutschland
ATTACH;FMTTYPE=image/jpeg:https://borderline-kassel.de/wp-content/uploads/2024/02/GfK-WoGi___www.2moveon.euQuelle.jpg
END:VEVENT
BEGIN:VEVENT
DTSTART;TZID=Europe/Berlin:20260906T110000
DTEND;TZID=Europe/Berlin:20260906T160000
DTSTAMP:20260421T101113
CREATED:20260116T223503Z
LAST-MODIFIED:20260301T222821Z
UID:5286-1788692400-1788710400@borderline-kassel.de
SUMMARY:September-Wanderung 2026
DESCRIPTION:Herzlich willkommen zu unserer sechsten Wanderung für dieses Jahr! \nSie führt uns wohin?\n… wir sind gespannt!\n \nTreffpunkt: 11 Uhr — und wo?\n… wir sind gespannt …\n>> … << \nLänge ca. ? km \nDanach kehren wir ein: … \nLiebe Grüße\nUwe
URL:https://borderline-kassel.de/event/september-wanderung-2026/
ATTACH;FMTTYPE=image/jpeg:https://borderline-kassel.de/wp-content/uploads/2021/05/fog-3776796_1280.jpg
END:VEVENT
BEGIN:VEVENT
DTSTART;TZID=Europe/Berlin:20260919T103000
DTEND;TZID=Europe/Berlin:20260919T130000
DTSTAMP:20260421T101113
CREATED:20260116T231433Z
LAST-MODIFIED:20260202T201511Z
UID:5336-1789813800-1789822800@borderline-kassel.de
SUMMARY:Trialog im September ... „Von Wurzeln und Flügeln“  [Dr. Melanie Herget & Jonas Pongratz]
DESCRIPTION:Thema: „Von Wurzeln und Fügeln“ \nVon und mit  Dr. Melanie Herget und Jonas Pongratz\,\nMitglieder unserer Angehörigen-Gruppe. \n  \nSamstag\, 19. September\, 10:30 – 13:00 Uhr \nKISS\, Treppenstraße 4\, 34117 Kassel\,\nJoseph-Rinald-Raum (2. OG) \nNur mit Anmeldung über antje.martin@borderline-kassel.de. \nBei erstmaligem Besuch ist ein telefonisches Vorabgespräch notwendig – bitte dazu Kontaktaufnahme über info@borderline.kassel.de zwecks Terminvereinbarung.\nhttps://borderline-kassel.de/gruppenangebote/#borderline-trialog-kassel. \nWir freuen uns auf euch\,\neuer Trialog Team Kassel \n 
URL:https://borderline-kassel.de/event/trialog-im-september-3/
LOCATION:KISS – Kontakt- und Informationsstelle für Selbsthilfegruppen\, Treppenstraße 4\, 2. OG\, Kassel\, 34117\, Deutschland
CATEGORIES:trialog
ATTACH;FMTTYPE=image/jpeg:https://borderline-kassel.de/wp-content/uploads/2023/08/Kippbild-Saxophon__-scaled.jpg
END:VEVENT
BEGIN:VEVENT
DTSTART;TZID=Europe/Berlin:20261004T110000
DTEND;TZID=Europe/Berlin:20261004T160000
DTSTAMP:20260421T101113
CREATED:20260116T223606Z
LAST-MODIFIED:20260301T222955Z
UID:5289-1791111600-1791129600@borderline-kassel.de
SUMMARY:Oktober-Wanderung 2026
DESCRIPTION:Herzlich willkommen zu unserer siebten Wanderung für dieses Jahr! \nSie führt uns wohin?\n… wir sind gespannt!\n \nTreffpunkt: 11 Uhr — und wo?\n… wir sind gespannt …\n>> … << \nLänge ca. ? km \nDanach kehren wir ein: … \nLiebe Grüße\nUwe
URL:https://borderline-kassel.de/event/oktober-wanderung-2026/
ATTACH;FMTTYPE=image/jpeg:https://borderline-kassel.de/wp-content/uploads/2021/05/road-1072821_1920.jpg
END:VEVENT
BEGIN:VEVENT
DTSTART;TZID=Europe/Berlin:20261101T110000
DTEND;TZID=Europe/Berlin:20261101T160000
DTSTAMP:20260421T101113
CREATED:20260116T223742Z
LAST-MODIFIED:20260301T223045Z
UID:5292-1793530800-1793548800@borderline-kassel.de
SUMMARY:November-Wanderung 2026
DESCRIPTION:Herzlich willkommen zu unserer achten Wanderung für dieses Jahr! \nSie führt uns wohin?\n… wir sind gespannt!\n \nTreffpunkt: 11 Uhr — und wo?\n… wir sind gespannt …\n>> … << \nLänge ca. ? km \nDanach kehren wir ein: … \nLiebe Grüße\nUwe
URL:https://borderline-kassel.de/event/november-wanderung-2026/
ATTACH;FMTTYPE=image/jpeg:https://borderline-kassel.de/wp-content/uploads/2021/03/Bild_maerz.jpg
END:VEVENT
BEGIN:VEVENT
DTSTART;TZID=Europe/Berlin:20261107T110000
DTEND;TZID=Europe/Berlin:20261107T130000
DTSTAMP:20260421T101113
CREATED:20260116T225252Z
LAST-MODIFIED:20260116T225252Z
UID:5304-1794049200-1794056400@borderline-kassel.de
SUMMARY:"Wenn die Giraffe mit dem Wolf tanzt"  --  die Angehörigen-Gruppe
DESCRIPTION:Nur mit Anmeldung über info@borderline-kassel.de oder 05542 5058892.\nhttps://borderline-kassel.de/gruppenangebote/#selbsthilfegruppe-fuer-angehoerige. \nDiese Angehörigen-Gruppe wird in der Haltung der GfK (Gewaltfreie Kommunikation\, Dr. M.B. Rosenberg) mit Lebendigkeit gefüllt. \nWann: 1. Samstag im Monat\, 11:00 – 13 Uhr (nicht während der hessischen Schulferien).\nWo: Sarah-Nussbaum-Raum\, 2. OG — in der KISS\, Treppenstraße 4\, 34117 Kassel. \nKonzept und Begleitung: Om Bärbel Jung\, Vorsitzende des Borderline Trialog Kassel e.V. \nWir freuen uns auf euch\,\neuer Trialog Team Kassel
URL:https://borderline-kassel.de/event/wenn-die-giraffe-mit-dem-wolf-tanzt-die-angehoerigen-gruppe-14/
LOCATION:KISS – Kontakt- und Informationsstelle für Selbsthilfegruppen\, Treppenstraße 4\, 2. OG\, Kassel\, 34117\, Deutschland
ATTACH;FMTTYPE=image/jpeg:https://borderline-kassel.de/wp-content/uploads/2024/02/GfK-WoGi___www.2moveon.euQuelle.jpg
END:VEVENT
BEGIN:VEVENT
DTSTART;TZID=Europe/Berlin:20261121T103000
DTEND;TZID=Europe/Berlin:20261121T130000
DTSTAMP:20260421T101113
CREATED:20260116T231608Z
LAST-MODIFIED:20260121T123632Z
UID:5339-1795257000-1795266000@borderline-kassel.de
SUMMARY:Trialog im November ... „...“  [Dr. Daniela Jung]
DESCRIPTION:Thema: „“  —  wird hier noch ergänzt … \n  \nReferentin: \nDr. Daniela Jung\,\nOberärztin der DBT-Borderline Station der Vitos Klinik Kassel \n  \nSamstag\, 21. November\, 10:30 – 13:00 Uhr \nKISS\, Treppenstraße 4\, 34117 Kassel\,\nJoseph-Rinald-Raum (2. OG) \nNur mit Anmeldung über antje.martin@borderline-kassel.de. \nBei erstmaligem Besuch ist ein telefonisches Vorabgespräch notwendig – bitte dazu Kontaktaufnahme über info@borderline.kassel.de zwecks Terminvereinbarung.\nhttps://borderline-kassel.de/gruppenangebote/#borderline-trialog-kassel. \nWir freuen uns auf euch\,\neuer Trialog Team Kassel \n 
URL:https://borderline-kassel.de/event/trialog-im-november-3/
LOCATION:KISS – Kontakt- und Informationsstelle für Selbsthilfegruppen\, Treppenstraße 4\, 2. OG\, Kassel\, 34117\, Deutschland
CATEGORIES:trialog
ATTACH;FMTTYPE=image/jpeg:https://borderline-kassel.de/wp-content/uploads/2023/08/Kippbild-Saxophon__-scaled.jpg
END:VEVENT
BEGIN:VEVENT
DTSTART;TZID=Europe/Berlin:20261205T110000
DTEND;TZID=Europe/Berlin:20261205T130000
DTSTAMP:20260421T101113
CREATED:20260116T225403Z
LAST-MODIFIED:20260116T225403Z
UID:5255-1796468400-1796475600@borderline-kassel.de
SUMMARY:"Wenn die Giraffe mit dem Wolf tanzt"  --  die Angehörigen-Gruppe
DESCRIPTION:Nur mit Anmeldung über info@borderline-kassel.de oder 05542 5058892.\nhttps://borderline-kassel.de/gruppenangebote/#selbsthilfegruppe-fuer-angehoerige. \nDiese Angehörigen-Gruppe wird in der Haltung der GfK (Gewaltfreie Kommunikation\, Dr. M.B. Rosenberg) mit Lebendigkeit gefüllt. \nWann: 1. Samstag im Monat\, 11:00 – 13 Uhr (nicht während der hessischen Schulferien).\nWo: Sarah-Nussbaum-Raum\, 2. OG — in der KISS\, Treppenstraße 4\, 34117 Kassel. \nKonzept und Begleitung: Om Bärbel Jung\, Vorsitzende des Borderline Trialog Kassel e.V. \nWir freuen uns auf euch\,\neuer Trialog Team Kassel
URL:https://borderline-kassel.de/event/wenn-die-giraffe-mit-dem-wolf-tanzt-die-angehoerigen-gruppe-15/
LOCATION:KISS – Kontakt- und Informationsstelle für Selbsthilfegruppen\, Treppenstraße 4\, 2. OG\, Kassel\, 34117\, Deutschland
ATTACH;FMTTYPE=image/jpeg:https://borderline-kassel.de/wp-content/uploads/2024/02/GfK-WoGi___www.2moveon.euQuelle.jpg
END:VEVENT
END:VCALENDAR